BEGIN:VCALENDAR
VERSION:2.0
PRODID:-//Pannon Kapu Kulturális Egyesület//NONSGML kigkonsult.se iCalcreator 2.41.92//
CALSCALE:GREGORIAN
METHOD:PUBLISH
UID:31623033-6366-4431-b335-343633656336
X-WR-CALNAME:iCagenda
X-WR-CALDESC:Event Management Extension for Joomla!
X-WR-RELCALID:3E26604A-50F4-4449-8B3E-E4F4932D05B5
X-WR-TIMEZONE:Europe/Budapest
BEGIN:VTIMEZONE
TZID:Europe/Budapest
TZUNTIL:20270328T010000Z
BEGIN:STANDARD
TZNAME:CET
DTSTART:20241027T030000
TZOFFSETFROM:+0200
TZOFFSETTO:+0100
RDATE:20251026T030000
RDATE:20261025T030000
END:STANDARD
BEGIN:DAYLIGHT
TZNAME:CEST
DTSTART:20250330T020000
TZOFFSETFROM:+0100
TZOFFSETTO:+0200
RDATE:20260329T020000
END:DAYLIGHT
END:VTIMEZONE
BEGIN:VEVENT
UID:62653533-6136-4630-a139-336465373034
DTSTAMP:20260420T181007Z
CATEGORIES:Történelmi napok
CLASS:PUBLIC
DESCRIPTION;ALTREP="CID:<FFFF__=0ABBE548DFE235B58f9e8a93d@coffeebean.com>":
 Részletek a plakáton.
DTSTART:20250731T150000Z
DTEND:20250802T213000Z
GEO:+46.953793;+16.276306
LOCATION:Várkert
ORGANIZER:
SEQUENCE:1
SUMMARY:Szentgotthárdi Történelmi Napok 2025
TRANSP:OPAQUE
URL:https://www.pannonkapu.hu/tortenelmi-napok-programok/szentgotthardi-tor
 tenelmi-napok-2025
END:VEVENT
END:VCALENDAR
