BEGIN:VCALENDAR
VERSION:2.0
PRODID:-//Pannon Kapu Kulturális Egyesület//NONSGML kigkonsult.se iCalcreator 2.41.92//
CALSCALE:GREGORIAN
METHOD:PUBLISH
UID:39626336-3032-4337-b064-393366386362
X-WR-CALNAME:iCagenda
X-WR-CALDESC:Event Management Extension for Joomla!
X-WR-RELCALID:3E26604A-50F4-4449-8B3E-E4F4932D05B5
X-WR-TIMEZONE:Europe/Budapest
BEGIN:VTIMEZONE
TZID:Europe/Budapest
TZUNTIL:20280326T010000Z
BEGIN:STANDARD
TZNAME:CET
DTSTART:20251026T030000
TZOFFSETFROM:+0200
TZOFFSETTO:+0100
RDATE:20261025T030000
RDATE:20271031T030000
END:STANDARD
BEGIN:DAYLIGHT
TZNAME:CEST
DTSTART:20260329T020000
TZOFFSETFROM:+0100
TZOFFSETTO:+0200
RDATE:20270328T020000
END:DAYLIGHT
END:VTIMEZONE
BEGIN:VEVENT
UID:34633262-6430-4335-b133-363532353839
DTSTAMP:20260419T194154Z
CATEGORIES:Nyári tábor
CLASS:PUBLIC
DESCRIPTION;ALTREP="CID:<FFFF__=0ABBE548DFE235B58f9e8a93d@coffeebean.com>":
 A&nbsp\;Pannon Kapu Kulturális Egyesület&nbsp\;és a&nbsp\;Szombathelyi Egy
 házmegye&nbsp\;együttműködésében 2026 nyarán különleges lelki és alkotói e
 lmélyülést kínáló tábort hirdetünk mindazok számára\, akik szeretnének köz
 elebb kerülni az egyházi kalligráfia és ikonfestés hagyományához.\nAz&nbsp
 \;Egyházi kalligráfia és ikonfestő tábor&nbsp\;nem csupán művészeti foglal
 kozás\, hanem olyan belső út is\, ahol a csend\, az összpontosítás és az a
 lázatos imádság együtt kíséri az alkotás folyamatát. A résztvevők a tábor 
 során megismerkedhetnek az egyházi kalligráfia és az ikonfestés hagyományo
 s formáival\, miközben lehetőség nyílik a lelki elmélyülésre és a közösség
 i együttlétre is.\nA tábort&nbsp\;Malika nővér&nbsp\;vezeti\, aki szakmai 
 és lelki kísérőként is segíti a résztvevőket ezen a különleges héten.\nA t
 ábor adatai\nIdőpont:&nbsp\;2026. június 22–27.Helyszín:&nbsp\;Zsida Termá
 l PanzióA tábor díja:&nbsp\;25.000 FtKorosztály:&nbsp\;16 éves kortólA táb
 or vezetője:&nbsp\;Malika nővér\nJelentkezés\nJelentkezni az alábbi elérhe
 tőségeken lehet:E-mail:&nbsp\;info.pkke@gmail.comTelefon:&nbsp\;+36 20 514
  6880\nEz a néhány nap lehetőség arra\, hogy ne csak kézzel alkossunk\, ha
 nem lélekkel is jelen legyünk. Várjuk mindazokat\, akik nyitott szívvel ér
 keznek\, és szeretnének elmélyülni az egyházi művészet csendes\, mégis gaz
 dag világában.
DTSTART:20260622T060000Z
DTEND:20260627T140000Z
GEO:+46.938992;+16.28751
LOCATION:Zsida Termál Panzió
ORGANIZER;CN=:mailto:info.pkke@gmail.com
SEQUENCE:1
SUMMARY:Egyházi kalligráfia és ikonfestő tábor
TRANSP:OPAQUE
URL:https://www.pannonkapu.hu/programok/egyhazi-kalligrafia-es-ikonfesto-ta
 bor
END:VEVENT
END:VCALENDAR
